BEGIN:VCALENDAR
VERSION:2.0
PRODID:-//Teatro Cine de Gouveia - ECPv6.15.20//NONSGML v1.0//EN
CALSCALE:GREGORIAN
METHOD:PUBLISH
X-ORIGINAL-URL:https://teatrocinegouveia.pt
X-WR-CALDESC:Eventos para Teatro Cine de Gouveia
REFRESH-INTERVAL;VALUE=DURATION:PT1H
X-Robots-Tag:noindex
X-PUBLISHED-TTL:PT1H
BEGIN:VTIMEZONE
TZID:Europe/Lisbon
BEGIN:DAYLIGHT
TZOFFSETFROM:+0000
TZOFFSETTO:+0100
TZNAME:WEST
DTSTART:20240331T010000
END:DAYLIGHT
BEGIN:STANDARD
TZOFFSETFROM:+0100
TZOFFSETTO:+0000
TZNAME:WET
DTSTART:20241027T010000
END:STANDARD
BEGIN:DAYLIGHT
TZOFFSETFROM:+0000
TZOFFSETTO:+0100
TZNAME:WEST
DTSTART:20250330T010000
END:DAYLIGHT
BEGIN:STANDARD
TZOFFSETFROM:+0100
TZOFFSETTO:+0000
TZNAME:WET
DTSTART:20251026T010000
END:STANDARD
BEGIN:DAYLIGHT
TZOFFSETFROM:+0000
TZOFFSETTO:+0100
TZNAME:WEST
DTSTART:20260329T010000
END:DAYLIGHT
BEGIN:STANDARD
TZOFFSETFROM:+0100
TZOFFSETTO:+0000
TZNAME:WET
DTSTART:20261025T010000
END:STANDARD
END:VTIMEZONE
BEGIN:VEVENT
DTSTART;TZID=Europe/Lisbon:20251102T150000
DTEND;TZID=Europe/Lisbon:20251102T233000
DTSTAMP:20260422T211732
CREATED:20251017T180108Z
LAST-MODIFIED:20251017T180432Z
UID:2509-1762095600-1762126200@teatrocinegouveia.pt
SUMMARY:Mr. Burton
DESCRIPTION:/// CINEMA: Mr. Burton  \n2 de novembro | 15h00 e 21h30 | 3€ \nNa cidade galesa de Port Talbot\, em 1942\, Richard Jenkins vive como um estudante rebelde\, preso entre as pressões da família em dificuldades\, uma guerra devastadora e as suas ambições. No entanto\, surge uma oportunidade quando o talento natural de Richard para o teatro chama a atenção do seu professor\, Philip Burton. \n2025 | Drama | 124 min \nCom Toby Jones\, Harry Lawtey\, Steffan Rhodri \nRealização Marc Evans \nClass. etária M/12 \nDistribuidor NOS Audiovisuais
URL:https://teatrocinegouveia.pt/evento/mr-burton/
CATEGORIES:Cinema
ATTACH;FMTTYPE=image/jpeg:https://teatrocinegouveia.pt/wp-content/uploads/2025/10/11-CINE.POST01-scaled.jpg
END:VEVENT
BEGIN:VEVENT
DTSTART;TZID=Europe/Lisbon:20251109T150000
DTEND;TZID=Europe/Lisbon:20251109T233000
DTSTAMP:20260422T211732
CREATED:20251017T181143Z
LAST-MODIFIED:20251022T115008Z
UID:2519-1762700400-1762731000@teatrocinegouveia.pt
SUMMARY:Lavagante
DESCRIPTION:/// CINEMA: Lavagante \n9 de novembro| 15h00 e 21h30 | 3€ \nUma história de amor e enganos\, num cenário marcado pela acção da polícia política da ditadura salazarista\, a censura\, as perseguições e as prisões\, e a revolta estudantil do início dos anos 1960. \nÚltimo argumento de António-Pedro Vasconcelos\, adaptado da derradeira obra de José Cardoso Pires. \n\nCom Francisco Froes\, Nuno Lopes\, Júlia Palha\, Leonor Alecrim\, Diogo Infante\, Rui Morisson \nRealização Mário Barroso \nProdução Paulo Branco \nArgumento António-Pedro Vasconcelos \nDuração 92 minutos \nGénero Drama \nOrigem Portugal \n\nClassificação etária M/12 \nDistribuidor Leopardo Filmes
URL:https://teatrocinegouveia.pt/evento/lavagante/
CATEGORIES:Cinema
ATTACH;FMTTYPE=image/jpeg:https://teatrocinegouveia.pt/wp-content/uploads/2025/10/11-CINE.POST02-scaled.jpg
END:VEVENT
BEGIN:VEVENT
DTSTART;TZID=Europe/Lisbon:20251115T213000
DTEND;TZID=Europe/Lisbon:20251115T230000
DTSTAMP:20260422T211732
CREATED:20251009T110241Z
LAST-MODIFIED:20251112T172117Z
UID:2460-1763242200-1763247600@teatrocinegouveia.pt
SUMMARY:Vessels A/V: A Soundtrack for Empty Cities
DESCRIPTION:///Multidisciplinar: Vessels A/V: A Soundtrack for Empty Cities\n15 de novembro | 21h30 | 3€ | Todos os Públicos \nEspetáculo comemorativo do 83º aniversário do TCG \n“Vessels A/V” é um projeto audiovisual íntimo e profundo\, criado por Alex FX durante os confinamentos globais de 2020\, que reflete sobre o silêncio\, a ausência e as novas paisagens urbanas que surgiram quando o mundo parou. Inspirado por imagens de drones sobrevoando metrópoles desertas — ruas vazias\, espaços públicos sem trânsito\, edifícios sem voz — o trabalho propõe-se a captar o espaço entre o que era quotidiano e o que ficou suspenso. \nA música desenvolvida para este Projecto é marcada pelo ambiente\, pela introspecção e pela exploração sonora: texturas sonoras espaciais\, composições ambientais\, momentos de silêncio e eco\, sempre com uma forte carga emocional. \nNo concerto/performance\, “Vessels A/V” combina estes sons com visuais e com interação com o público\, numa experiência que procura transformar o íntimo em colectivo — revelar\, através da arte\, o impacto psicológico\, social e poético do vazio urbano\, da solidão imposta e da ruptura da normalidade. \nÉ uma obra de reflexão: sobre a cidade (e quem a habita) quando ela se torna espaço vazio\, sobre o paradoxo de estarmos fisicamente isolados\, mas tecnologicamente hiper-conectados\, e sobre como emergem novas formas de presença\, reverberações e ausência. \nO nome Alex FX surgiu por volta de 1993\, e desde então o artista tem desenvolvido uma carreira multifacetada que abrange produção musical\, remixes\, composições para bandas sonoras\, concertos\, DJ sets e colaborações com outros músicos. A sua ligação à música eletrónica remonta ao final da década de 1980\, embora o projeto “Alex FX” tenha se consolidado a partir dos anos 90. Colaborou \com nomes nacionais e internacionais\, incluindo Alan Wilder (ex-Depeche Mode) e David J (Bauhaus / Love & Rockets) em diversos contextos musicais. \nEntre os seus trabalhos discográficos mais relevantes está Underdub\, um dos seus álbuns de referência\, que já foi relançado em versão remasterizada. \nAFTER PARTY\n2JACK4U\nCAZKIT
URL:https://teatrocinegouveia.pt/evento/vessels-a-v-a-soundtrack-for-empty-cities/
CATEGORIES:Cinema,Multidisciplinar,Música
ATTACH;FMTTYPE=image/jpeg:https://teatrocinegouveia.pt/wp-content/uploads/2025/10/AFTER.jpg
END:VEVENT
BEGIN:VEVENT
DTSTART;TZID=Europe/Lisbon:20251116T150000
DTEND;TZID=Europe/Lisbon:20251116T170000
DTSTAMP:20260422T211732
CREATED:20251017T182051Z
LAST-MODIFIED:20251022T115038Z
UID:2522-1763305200-1763312400@teatrocinegouveia.pt
SUMMARY:Snow e a Princesa
DESCRIPTION:/// CINEMA: Snow e a Princesa \n16 de novembro | 15h00 | 3€ \nIla\, a filha rebelde da Rainha Snow\, liberta os Espíritos do Lago Gao\, que fogem dos Domínios do Espelho para o mundo exterior. A princesa Ila segue-os e encontra Kai e Gerda. Juntos tentam corrigir o erro de Ila e salvar tanto o mundo humano como o mágico mundo dos Domínios do Espelho. Ila irá aprender a dominar os seus poderes e a ouvir os conselhos que os novos amigos Kai e Gerda lhe darão. \nVozes Polina Voychenko\, Mariia Shustrova\, Irina Chumanteva\, Iurii Romanov\, Konstantin Panchenko\, Svetlana Kuznetsova\, Andrey Tenetko\, Maxim Sergeev\, Alexander Vasilyev \nRealização Alexey Tsitsilin\, Andrey Korn \nDuração 75 minutos \nGénero Animação\, Aventura\, Comédia \n\nClassificação etária M/6 \nDistribuidor Outsider Films \n\n 
URL:https://teatrocinegouveia.pt/evento/snow-e-a-princesa/
CATEGORIES:Cinema
ATTACH;FMTTYPE=image/jpeg:https://teatrocinegouveia.pt/wp-content/uploads/2025/10/11-CINE.POST03-scaled.jpg
END:VEVENT
BEGIN:VEVENT
DTSTART;TZID=Europe/Lisbon:20251116T213000
DTEND;TZID=Europe/Lisbon:20251116T233000
DTSTAMP:20260422T211732
CREATED:20251017T182633Z
LAST-MODIFIED:20251022T115046Z
UID:2525-1763328600-1763335800@teatrocinegouveia.pt
SUMMARY:TRON: Ares
DESCRIPTION:/// CINEMA: TRON_ Ares  \n16 de novembro | 21h30 | 3€ \nUm programa sofisticado chamado Ares é enviado do mundo digital para o mundo real numa missão perigosa\, marcando o primeiro encontro da humanidade com seres de inteligência artificial. \nCom Jared Leto\, Greta Lee\, Evan Peters\, Gillian Anderson\, Jodie Turner-Smith\, Jeff Bridges\, Hasan Minhaj\, Cameron Monaghan\, Arturo Castro\, Sarah Desjardins \nRealização Joachim Rønning \nProdução Jared Leto\, Emma Ludbrook\, Justin Springer\, Jeffrey Silver\, Steven Lisberger\, Sean Bailey \nArgumento Jesse Wigutow \n 
URL:https://teatrocinegouveia.pt/evento/tron-ares/
CATEGORIES:Cinema
ATTACH;FMTTYPE=image/jpeg:https://teatrocinegouveia.pt/wp-content/uploads/2025/10/11-CINE.POST04-scaled.jpg
END:VEVENT
BEGIN:VEVENT
DTSTART;TZID=Europe/Lisbon:20251123T150000
DTEND;TZID=Europe/Lisbon:20251123T233000
DTSTAMP:20260422T211732
CREATED:20251017T183410Z
LAST-MODIFIED:20251022T115057Z
UID:2528-1763910000-1763940600@teatrocinegouveia.pt
SUMMARY:Springsteen: Deliver Me From Nowhere
DESCRIPTION:/// CINEMA: Springsteen: Deliver Me From Nowhere \n23 de novembro | 15h00 e 21h30 | 3€ \nDos 20th Century Studios\, Springsteen: Deliver Me From Nowhere narra a produção do álbum ”Nebraska” de Bruce Springsteen\, de 1982\, quando este era um jovem músico à beira do estrelato global\, na luta para conciliar as pressões do sucesso com os fantasmas do seu passado. Gravado num gravador de 4 pistas no quarto de Springsteen em New Jersey\, o álbum marcou uma época crucial na sua vida e é considerado um dos seus trabalhos mais duradouros – um disco acústico cru e assombrado\, povoado por almas perdidas à procura de uma razão para acreditar. \nProtagonizado por Jeremy Allen White como The Boss\, o filme foi escrito e realizado por Scott Cooper\, com base no livro “Deliver Me From Nowhere” de Warren Zanes. \nSpringsteen: Deliver Me From Nowhere conta também com Jeremy Strong como o confidente e manager de longa data de Springsteen\, Jon Landau; Paul Walter Hauser como o técnico de guitarra\, Mike Batlan; Stephen Graham como o pai de Springsteen\, Doug; Odessa Young como o interesse amoroso\, Faye; Gaby Hoffman como a mãe de Springsteen\, Adele; Marc Maron como Chuck Plotkin e David Krumholtz como o executivo da Columbia\, Al Teller. O filme chega a 23 de outubro\, só aos cinemas e é produzido por Cooper\, Ellen Goldsmith-Vein\, Eric Robinson e Scott Stuber. A produção executiva é de Tracey Landon\, Jon Vein e Zanes. \n\nRealização: Scott Cooper\n\n\nAtores: Jeremy Allen White\, Jeremy Strong\, Paul Walter Hauser\, Stephen Graham\, Odessa Young\, Johnny Cannizzaro\, Harrison Gilbertson\, Marc Maron\, Gaby Hoffmann\, David Krumholtz\, Bartley Booz\, Jeffrey Mowery\n\n\nPaís: EUA\n\n\nIdioma: Inglês\nGénero: Drama\nDuração: 120 minutos\nClassificação etária M/12\nDistribuidor: Castello Lopes\n\n 
URL:https://teatrocinegouveia.pt/evento/springsteen-deliver-me-from-nowhere/
CATEGORIES:Cinema
ATTACH;FMTTYPE=image/jpeg:https://teatrocinegouveia.pt/wp-content/uploads/2025/10/11-CINE.POST05-scaled.jpg
END:VEVENT
BEGIN:VEVENT
DTSTART;TZID=Europe/Lisbon:20251130T150000
DTEND;TZID=Europe/Lisbon:20251130T233000
DTSTAMP:20260422T211732
CREATED:20251017T183811Z
LAST-MODIFIED:20251022T115108Z
UID:2531-1764514800-1764545400@teatrocinegouveia.pt
SUMMARY:Viúva Clicquot
DESCRIPTION:/// CINEMA: Viúva Clicquot \n30 de novembro | 15h00 e 21h30 | 3€ \nAos 19 anos\, Barbe-Nicole\, de 19 anos\, observa as vinhas de Champagne que a rodeiam com o seu novo marido\, François Clicquot. Em pouco tempo\, ela perceba a paixão e o conhecimento que François possui sobre a produção de vinho. Não quer outra coisa senão ensinar a Barbe-Nicole o que sabe\, procurando mesmo a sua aprovação. Ela mostra um talento inato neste domínio\, absorvendo tudo o que se passa à sua volta. A família não tarda a aumentar com a chegada de uma menina\, Clementine. \nOs anos seguintes são passados a convencer o pai de François\, Philippe Clicquot\, de que o seu investimento no negócio vale a pena. \nO falecimento prematuro de François abala Barbe-Nicole até ao âmago e deixa-a devastada. Sem perder tempo\, Philippe procura vender as vinhas ao vizinho e concorrente Jean-Remy Moet. \nCom 27 anos\, Barbe-Nicole está determinada a realizar o sonho de François. Audaciosa e inteligente\, convence Philippe a deixá-la assumir as rédeas da operação\, um papel que ela assume com incrível determinação. Intransigente no que diz respeito ao tratamento das suas vinhas e à qualidade dos vinhos\, Barbe-Nicole trabalha incansavelmente para aperfeiçoar novas técnicas de produção e melhorar o processo de fabrico do champanhe. No entanto\, nem todos apoiam os seus esforços… \nA viúva Clicquot encontra um aliado em Louis Bohne\, um famoso vendedor de vinhos e querido amigo de François. Ele aconselha-a sobre como lidar com o pessoal da vinha e dá notas sobre o vinho que ela está a produzir\, embora não concorde automaticamente em vendê-lo. \nCom Haley Bennett\, Tom Sturridge\, Sam Riley\, Leo Suter\, Ben Miles\, Anson Boon\, Natasha O’Keeffe\, Chris Larkin\, Paul Rhys\, Ian Conningham\, Cecily Cleeve\, David Emmanuel \nRealização Thomas Napper \nProdução Christina Weiss Lurie\, Haley Bennett\, Joe Wright \nArgumento Erin Dignam \nDuração 89 minutos \nGénero Drama \nOrigem Estados Unidos da América \n\nDistribuidor NOS Audiovisuais
URL:https://teatrocinegouveia.pt/evento/viuva-clicquot/
CATEGORIES:Cinema
ATTACH;FMTTYPE=image/jpeg:https://teatrocinegouveia.pt/wp-content/uploads/2025/10/11-CINE.POST06-scaled.jpg
END:VEVENT
END:VCALENDAR