BEGIN:VCALENDAR
VERSION:2.0
PRODID:-//Teatro Cine de Gouveia - ECPv6.15.20//NONSGML v1.0//EN
CALSCALE:GREGORIAN
METHOD:PUBLISH
X-WR-CALNAME:Teatro Cine de Gouveia
X-ORIGINAL-URL:https://teatrocinegouveia.pt
X-WR-CALDESC:Eventos para Teatro Cine de Gouveia
REFRESH-INTERVAL;VALUE=DURATION:PT1H
X-Robots-Tag:noindex
X-PUBLISHED-TTL:PT1H
BEGIN:VTIMEZONE
TZID:Europe/Lisbon
BEGIN:DAYLIGHT
TZOFFSETFROM:+0000
TZOFFSETTO:+0100
TZNAME:WEST
DTSTART:20250330T010000
END:DAYLIGHT
BEGIN:STANDARD
TZOFFSETFROM:+0100
TZOFFSETTO:+0000
TZNAME:WET
DTSTART:20251026T010000
END:STANDARD
BEGIN:DAYLIGHT
TZOFFSETFROM:+0000
TZOFFSETTO:+0100
TZNAME:WEST
DTSTART:20260329T010000
END:DAYLIGHT
BEGIN:STANDARD
TZOFFSETFROM:+0100
TZOFFSETTO:+0000
TZNAME:WET
DTSTART:20261025T010000
END:STANDARD
BEGIN:DAYLIGHT
TZOFFSETFROM:+0000
TZOFFSETTO:+0100
TZNAME:WEST
DTSTART:20270328T010000
END:DAYLIGHT
BEGIN:STANDARD
TZOFFSETFROM:+0100
TZOFFSETTO:+0000
TZNAME:WET
DTSTART:20271031T010000
END:STANDARD
END:VTIMEZONE
BEGIN:VEVENT
DTSTART;TZID=Europe/Lisbon:20260201T200000
DTEND;TZID=Europe/Lisbon:20260201T233000
DTSTAMP:20260422T165515
CREATED:20260118T171742Z
LAST-MODIFIED:20260130T184227Z
UID:2739-1769976000-1769988600@teatrocinegouveia.pt
SUMMARY:Mata-te\, Amor
DESCRIPTION:/// Cinema: Mata-te\, Amor \n01 de fevereiro |  21h00 | 3\,70€ \nGrace (Jennifer Lawrence) e o seu companheiro Jackson (Robert Pattinson) mudam-se para uma casa de campo. Ela persegue o sonho de ser escritora e\, pouco tempo depois\, nasce o primeiro bebé do casal. Contudo\, as frequentes ausências de Jackson e a pressão da vida doméstica pesam nos ombros de Grace que começa a descontrolar-se\, deixando um rasto de destruição… \nFilme da seleção oficial do Festival de Cannes 2025\, em competição. \n\nCom Jennifer Lawrence\, Robert Pattinson\, LaKeith Stanfield\, Sissy Spacek\, Nick Nolte\, Gabrielle Rose\, Phillip Forest Lewitski\, Sarah Lind\, Victor Zinck\, Jr.\, Debs Howard\, Luke Camilleri\, Marcus Della Rosa\, Tom Carey\, Saylor McPherson\, Lauren Viau\, Lori Bachynski\, Lydia Lau\, Edward Simon \nRealização Lynne Ramsay \nProdução Martin Scorsese\, Justine Ciarrocchi\, Jennifer Lawrence\, Trent Luckinbill\, Andrea Calderwood\, Molly Smith \nArgumento Enda Walsh\, Lynne Ramsay\, Alice Birch \nDuração 118 minutos \nGénero Drama\, Thriller\, Comédia \nOrigem Estados Unidos da América \n\nClassificação etária M/16 \nDistribuidor NOS Audiovisuais
URL:https://teatrocinegouveia.pt/evento/mata-te-amor/
CATEGORIES:Cinema
ATTACH;FMTTYPE=image/jpeg:https://teatrocinegouveia.pt/wp-content/uploads/2026/01/02-CINE.POST-01-1.jpg
END:VEVENT
BEGIN:VEVENT
DTSTART;TZID=Europe/Lisbon:20260208T150000
DTEND;TZID=Europe/Lisbon:20260208T233000
DTSTAMP:20260422T165515
CREATED:20260118T172256Z
LAST-MODIFIED:20260122T184859Z
UID:2744-1770562800-1770593400@teatrocinegouveia.pt
SUMMARY:A Criada
DESCRIPTION:/// Cinema: A Criada \n8 de fevereiro | 15h00 e 21h00 | 3\,70€ \nMillie é uma mulher lutadora e feliz por recomeçar a vida como empregada doméstica de Nina e Andrew\, um casal rico. No entanto\, logo percebe que os segredos da família são mais perigosos do que os seus. \n\nCom Sydney Sweeney\, Amanda Seyfried\, Brandon Sklenar\, Michele Morrone\, Ellen Tamaki\, Megan Ferguson\, Brian D. Cohen\, Indiana Elle\, Amanda Joy Erickson\, Maury Ginsberg\, Don DiPetta\, Iván Amaro Bullón\, Cailen Fu\, Alexandra Seal\, Sophia Bunnell\, Lamar Baucom-Slaughter\, Arabella Olivia Clark \nRealização Paul Feig \nProdução Todd Lieberman\, Carly Kleinbart\, Laura Fischer\, Paul Feig \nArgumento Rebecca Sonnenshine \nDuração 131 minutos \nGénero Thriller\, Mistério \nOrigem Estados Unidos da América \n\nClassificação etária M/14 \nDistribuidor Pris
URL:https://teatrocinegouveia.pt/evento/a-criada/
CATEGORIES:Cinema
ATTACH;FMTTYPE=image/jpeg:https://teatrocinegouveia.pt/wp-content/uploads/2026/01/02-CINE.POST-02.jpg
END:VEVENT
BEGIN:VEVENT
DTSTART;TZID=Europe/Lisbon:20260222T150000
DTEND;TZID=Europe/Lisbon:20260222T170000
DTSTAMP:20260422T165515
CREATED:20260118T172624Z
LAST-MODIFIED:20260122T184941Z
UID:2748-1771772400-1771779600@teatrocinegouveia.pt
SUMMARY:David
DESCRIPTION:/// Cinema: David (VP) \n22 de fevereiro | 15h00 | 3\,70€ \n\nA história de um jovem pastor que se tornou rei. Após ser escolhido para enfrentar o gigante Golias\, David inspira uma nação com o seu exemplo universal de lealdade\, amor e coragem \n\nCom Phil Wickham\, Brandon Engman\, Asim Chaudhry\, Mick Wingert\, Mark Whitten\, Ashley Boettcher\, Sloan Lucas Muldown\, Will De Renzy-Martin\, Lauren Daigle\, Brian Stivale\, Shahar Taboch\, Miri Mesika\, Mike Ciporkin \nRealização Brent Dawes\, Phil Cunningham \nProdução Tim Tebow\, Phil Cunningham\, Jacqui Cunningham \nArgumento Kyle Portbury \nDuração 115 minutos \nGénero Drama\, Animação \nOrigem Estados Unidos da América\, África do Sul \n\nClassificação etária M/6 \nDistribuidor NOS Audiovisuais
URL:https://teatrocinegouveia.pt/evento/22-de-fevereiro-15h00-david/
CATEGORIES:Cinema
ATTACH;FMTTYPE=image/jpeg:https://teatrocinegouveia.pt/wp-content/uploads/2026/01/02-CINE.POST-03.jpg
END:VEVENT
BEGIN:VEVENT
DTSTART;TZID=Europe/Lisbon:20260222T210000
DTEND;TZID=Europe/Lisbon:20260222T233000
DTSTAMP:20260422T165515
CREATED:20260118T173035Z
LAST-MODIFIED:20260122T185108Z
UID:2754-1771794000-1771803000@teatrocinegouveia.pt
SUMMARY:Primata
DESCRIPTION:/// Cinema: Primata \n22 de fevereiro | 21h00 | 3\,70€ \nApós regressar a casa no Havai para as férias de verão\, Lucy reencontra o pai\, a irmã e o chimpanzé de estimação Ben. Lucy e os amigos decidem organizar uma festa na piscina para aproveitar a casa vazia\, depois de o pai de Lucy ter sido chamado ao trabalho. Sem saberem\, Ben foi mordido por um animal raivoso e o chimpanzé gentil que conheciam já não existe. O grupo é forçado a barricar-se na piscina\, sem meios para pedir ajuda e tem de trabalhar em conjunto para descobrir como ultrapassar o agora feroz Ben e sobreviver à sua provação. \n\nCom Johnny Sequoyah\, Troy Kotsur\, Jessica Alexander\, Victoria Wyant\, Benjamin Cheng\, Gia Hunter\, Miguel Hernando Torres Umba\, Kae Alexander\, Tienne Simon\, Charlie Mann\, Amina Abdi\, Albert Magashi\, Kevin McNally\, Stuart Whelan\, Kieran Deane \nRealização Johannes Roberts \nProdução Bradley Pilz\, John Hodges\, Walter Hamada \nArgumento Ernest Riera\, Johannes Roberts \nDuração 89 minutos \nGénero Terror \nOrigem Estados Unidos da América \n\nDistribuidor NOS Audiovisuais
URL:https://teatrocinegouveia.pt/evento/primata/
CATEGORIES:Cinema
ATTACH;FMTTYPE=image/jpeg:https://teatrocinegouveia.pt/wp-content/uploads/2026/01/02-CINE.POST-04.jpg
END:VEVENT
END:VCALENDAR