BEGIN:VCALENDAR
VERSION:2.0
PRODID:-//Teatro Cine de Gouveia - ECPv6.15.20//NONSGML v1.0//EN
CALSCALE:GREGORIAN
METHOD:PUBLISH
X-ORIGINAL-URL:https://teatrocinegouveia.pt
X-WR-CALDESC:Eventos para Teatro Cine de Gouveia
REFRESH-INTERVAL;VALUE=DURATION:PT1H
X-Robots-Tag:noindex
X-PUBLISHED-TTL:PT1H
BEGIN:VTIMEZONE
TZID:Europe/Lisbon
BEGIN:DAYLIGHT
TZOFFSETFROM:+0000
TZOFFSETTO:+0100
TZNAME:WEST
DTSTART:20250330T010000
END:DAYLIGHT
BEGIN:STANDARD
TZOFFSETFROM:+0100
TZOFFSETTO:+0000
TZNAME:WET
DTSTART:20251026T010000
END:STANDARD
BEGIN:DAYLIGHT
TZOFFSETFROM:+0000
TZOFFSETTO:+0100
TZNAME:WEST
DTSTART:20260329T010000
END:DAYLIGHT
BEGIN:STANDARD
TZOFFSETFROM:+0100
TZOFFSETTO:+0000
TZNAME:WET
DTSTART:20261025T010000
END:STANDARD
BEGIN:DAYLIGHT
TZOFFSETFROM:+0000
TZOFFSETTO:+0100
TZNAME:WEST
DTSTART:20270328T010000
END:DAYLIGHT
BEGIN:STANDARD
TZOFFSETFROM:+0100
TZOFFSETTO:+0000
TZNAME:WET
DTSTART:20271031T010000
END:STANDARD
END:VTIMEZONE
BEGIN:VEVENT
DTSTART;TZID=Europe/Lisbon:20260301T150000
DTEND;TZID=Europe/Lisbon:20260301T233000
DTSTAMP:20260422T151402
CREATED:20260118T173403Z
LAST-MODIFIED:20260122T185149Z
UID:2758-1772377200-1772407800@teatrocinegouveia.pt
SUMMARY:Hamnet
DESCRIPTION:/// Cinema: Hamnet \n1 de março | 15h00 e 21h00 | 3\,70€ \n\n1580\, Inglaterra. William Shakespeare\, um professor de latim empobrecido\, conhece Agnes\, uma mulher de espírito aberto. Iniciam um romance intenso que leva ao casamento e a três filhos. Will prossegue a sua carreira teatral em Londres e Agnes assume sozinha as responsabilidades domésticas. Quando uma tragédia ocorre\, o vínculo inabalável do casal é posto à prova. Essa experiência partilhada prepara o terreno para a criação da obra-prima intemporal de Shakespeare\, Hamlet. \n\n\nCom Jessie Buckley\, Paul Mescal\, Emily Watson\, Joe Alwyn\, Jacobi Jupe\, Bodhi Rae Breathnach\, Olivia Lynes\, Freya Hannan-Mills\, Faith Delaney\, Sam Woolf\, Jack Shalloo\, Laura Guest\, Elliot Baxter\, Eva Wishart\, Hera Gibson\, Zac Wishart\, Smylie Bradwell\, Noah Jupe \nRealização Chloé Zhao \nProdução Sam Mendes\, Pippa Harris\, Liza Marshall\, Steven Spielberg\, Nicolas Gonda \nArgumento Chloé Zhao\, Maggie O’Farrell \nDuração 125 minutos \nGénero Drama\, Histórico\, Romance \nOrigem Reino Unido\, Estados Unidos da América \n\nDistribuidor NOS Audiovisuais
URL:https://teatrocinegouveia.pt/evento/hamnet/
CATEGORIES:Cinema
ATTACH;FMTTYPE=image/jpeg:https://teatrocinegouveia.pt/wp-content/uploads/2026/01/03-CINE.POST-01.jpg
END:VEVENT
BEGIN:VEVENT
DTSTART;TZID=Europe/Lisbon:20260308T150000
DTEND;TZID=Europe/Lisbon:20260308T233000
DTSTAMP:20260422T151402
CREATED:20260118T173842Z
LAST-MODIFIED:20260122T185224Z
UID:2762-1772982000-1773012600@teatrocinegouveia.pt
SUMMARY:Marty Supreme
DESCRIPTION:/// Cinema: Marty Supreme \n8 de março | 15h00 e 21h00 | 3\,70€ \n\nUma história de ficção passada no mundo do ténis de mesa dos anos 50\, acompanha Marty Mauser\, um jovem com um sonho que ninguém respeita. \nFilme vagamente inspirado na vida do jogador profissional Marty Reisman. \n\nCom Timothée Chalamet\, Gwyneth Paltrow\, Odessa A’zion\, Kevin O’Leary\, Tyler\, The Creator\, Abel Ferrara\, Fran Drescher\, Penn Jillette\, Sandra Bernhard\, Spenser Granese\, Cody Kostro\, John Keating\, Charles Glover\, Dennis Creaghan\, Anthony Thomas Larkin\, J. Christian Ingvordsen\, Toree Hill\, Blake Gioviti\, Musto Pelinkovicci\, Daniel Napolitano \nRealização Josh Safdie \nProdução Anthony Katagas\, Ronald Bronstein\, Josh Safdie\, Eli Bush\, Timothée Chalamet \nArgumento Ronald Bronstein\, Josh Safdie \nDuração 150 minutos \nGénero Comédia\, Drama \nOrigem Finlândia\, Estados Unidos da América \n\nDistribuidor Cinemundo
URL:https://teatrocinegouveia.pt/evento/marty-supreme/
CATEGORIES:Cinema
ATTACH;FMTTYPE=image/jpeg:https://teatrocinegouveia.pt/wp-content/uploads/2026/01/03-CINE.POST-02.jpg
END:VEVENT
BEGIN:VEVENT
DTSTART;TZID=Europe/Lisbon:20260315T150000
DTEND;TZID=Europe/Lisbon:20260315T170000
DTSTAMP:20260422T151402
CREATED:20260118T174150Z
LAST-MODIFIED:20260122T185246Z
UID:2766-1773586800-1773594000@teatrocinegouveia.pt
SUMMARY:Frankie e os Monstros
DESCRIPTION:/// Cinema: Frankie e os Monstros \n15 de março | 15h00 | 3\,70€ \n\nStitch Head\, uma pequena criatura despertada por um Professor Louco num castelo\, protege as outras criações do professor da ira dos habitantes da cidade de Grubbers Nubbin. \n\nVozes Asa Butterfield\, Joel Fry\, Alison Steadman\, Rob Brydon\, Seth Usdenov\, Fern Brady\, Tia Bannon\, Jamali Maddix\, Paul Tylak\, Ruth Gibson\, Rasmus Hardiker\, Ryan Sampson\, Steve Hudson\, Gemma Saunders\, Sway Clarke II \nRealização Steve Hudson \nProdução Sonja Ewers\, Mark Mertens \nArgumento Guy Bass\, Steve Hudson \nDuração 91 minutos \nGénero Aventura\, Animação\, Comédia \nOrigem Alemanha\, Luxemburgo\, Índia\, Estados Unidos da América\, Reino Unido \n\nDistribuidor NOS Audiovisuais
URL:https://teatrocinegouveia.pt/evento/frankie-e-os-monstros/
CATEGORIES:Cinema
ATTACH;FMTTYPE=image/jpeg:https://teatrocinegouveia.pt/wp-content/uploads/2026/01/03-CINE.POST-03.jpg
END:VEVENT
BEGIN:VEVENT
DTSTART;TZID=Europe/Lisbon:20260315T210000
DTEND;TZID=Europe/Lisbon:20260315T233000
DTSTAMP:20260422T151402
CREATED:20260118T174432Z
LAST-MODIFIED:20260122T185308Z
UID:2770-1773608400-1773617400@teatrocinegouveia.pt
SUMMARY:Socorro!
DESCRIPTION:/// Cinema: Socorro!  \n15 de março | 21h00 | 3\,70€ \n\nLinda é uma funcionária atormentada por Bradley\, o seu chefe narcisista. Durante uma viagem para Banguecoque\, o avião em que seguem sofre um acidente. Eles são os únicos sobreviventes. Presos numa ilha deserta\, os papéis invertem-se. As capacidades de sobrevivência de Linda sobrepõem-se à autoridade de Bradley. Sem ajuda a caminho\, o resultado é uma batalha perturbadora e sombria\, de vontades e capacidade de luta pela sobrevivência. \n\nCom Rachel McAdams\, Dylan O’Brien\, Edyll Ismail\, Xavier Samuel\, Chris Pang\, Thaneth Warakulnukroh\, Emma Raimi\, Bruce Campbell\, Dennis Haysbert \nRealização Sam Raimi \nProdução Sam Raimi\, Zainab Azizi \nArgumento Damian Shannon\, Mark Swift \nDuração 113 minutos \nGénero Thriller\, Terror \nOrigem Estados Unidos da América \n\nDistribuidor NOS Audiovisuais
URL:https://teatrocinegouveia.pt/evento/socorro/
CATEGORIES:Cinema
ATTACH;FMTTYPE=image/jpeg:https://teatrocinegouveia.pt/wp-content/uploads/2026/01/03-CINE.POST-04.jpg
END:VEVENT
BEGIN:VEVENT
DTSTART;TZID=Europe/Lisbon:20260322T150000
DTEND;TZID=Europe/Lisbon:20260322T233000
DTSTAMP:20260422T151402
CREATED:20260118T174713Z
LAST-MODIFIED:20260322T161250Z
UID:2774-1774191600-1774222200@teatrocinegouveia.pt
SUMMARY:O Monte dos Vendavais
DESCRIPTION:/// Cinema: O Monte dos Vendavais \n22 de março | 15h00 e 21h00 | 3\,70€ \n\nUma história de amor apaixonada e tempestuosa\, tendo como pano de fundo os pântanos de Yorkshire\, explora a relação intensa e destrutiva entre Heathcliff e Catherine Earnshaw. \n\nCom Jacob Elordi\, Margot Robbie\, Hong Chau\, Alison Oliver\, Shazad Latif\, Owen Cooper\, Vy Nguyen\, Charlotte Mellington \nRealização Emerald Fennell \nProdução Margot Robbie\, Emerald Fennell\, Tom Ackerley\, Josey McNamara \nArgumento Emerald Fennell \nM/14 anos
URL:https://teatrocinegouveia.pt/evento/o-monte-dos-vendavais/
CATEGORIES:Cinema
ATTACH;FMTTYPE=image/jpeg:https://teatrocinegouveia.pt/wp-content/uploads/2026/01/03-CINE.POST-05.jpg
END:VEVENT
BEGIN:VEVENT
DTSTART;TZID=Europe/Lisbon:20260329T150000
DTEND;TZID=Europe/Lisbon:20260329T233000
DTSTAMP:20260422T151402
CREATED:20260118T175115Z
LAST-MODIFIED:20260122T185410Z
UID:2779-1774796400-1774827000@teatrocinegouveia.pt
SUMMARY:Gritos 7
DESCRIPTION:/// Cinema: Gritos 7 \n29 de março | 15h00 e 21h00 | 3\,70€ \n\nUm novo Ghostface surge na pacata cidade onde Sidney Prescott reconstruiu a sua vida. O seu maior medo torna-se realidade quando a sua filha se torna o próximo alvo. Determinada a proteger a família\, Sidney enfrenta horrores do passado para pôr um fim ao derramamento de sangue de uma vez por todas. \n\nCom Neve Campbell\, Isabel May\, Celeste O’Connor\, Asa Germann\, Mckenna Grace\, Sam Rechner\, Anna Camp\, Mason Gooding\, Courteney Cox\, Joel McHale\, Jasmin Savoy Brown\, Mark Consuelos\, Scott Foley\, Matthew Lillard\, Ethan Embry\, David Arquette\, Michelle Randolph\, Jimmy Tatro\, Roger L. Jackson\, Timothy Simons \nRealização Kevin Williamson \nProdução William Sherak\, Paul Neinstein \nArgumento Guy Busick\, Kevin Williamson \nGénero Mistério\, Terror \nOrigem Estados Unidos da América \n\nDistribuidor NOS Audiovisuais
URL:https://teatrocinegouveia.pt/evento/gritos-7/
CATEGORIES:Cinema
ATTACH;FMTTYPE=image/jpeg:https://teatrocinegouveia.pt/wp-content/uploads/2026/01/03-CINE.POST-06.jpg
END:VEVENT
END:VCALENDAR