BEGIN:VCALENDAR
VERSION:2.0
PRODID:-//Teatro Cine de Gouveia - ECPv6.15.20//NONSGML v1.0//EN
CALSCALE:GREGORIAN
METHOD:PUBLISH
X-WR-CALNAME:Teatro Cine de Gouveia
X-ORIGINAL-URL:https://teatrocinegouveia.pt
X-WR-CALDESC:Eventos para Teatro Cine de Gouveia
REFRESH-INTERVAL;VALUE=DURATION:PT1H
X-Robots-Tag:noindex
X-PUBLISHED-TTL:PT1H
BEGIN:VTIMEZONE
TZID:Europe/Lisbon
BEGIN:DAYLIGHT
TZOFFSETFROM:+0000
TZOFFSETTO:+0100
TZNAME:WEST
DTSTART:20230326T010000
END:DAYLIGHT
BEGIN:STANDARD
TZOFFSETFROM:+0100
TZOFFSETTO:+0000
TZNAME:WET
DTSTART:20231029T010000
END:STANDARD
BEGIN:DAYLIGHT
TZOFFSETFROM:+0000
TZOFFSETTO:+0100
TZNAME:WEST
DTSTART:20240331T010000
END:DAYLIGHT
BEGIN:STANDARD
TZOFFSETFROM:+0100
TZOFFSETTO:+0000
TZNAME:WET
DTSTART:20241027T010000
END:STANDARD
BEGIN:DAYLIGHT
TZOFFSETFROM:+0000
TZOFFSETTO:+0100
TZNAME:WEST
DTSTART:20250330T010000
END:DAYLIGHT
BEGIN:STANDARD
TZOFFSETFROM:+0100
TZOFFSETTO:+0000
TZNAME:WET
DTSTART:20251026T010000
END:STANDARD
END:VTIMEZONE
BEGIN:VEVENT
DTSTART;TZID=Europe/Lisbon:20240615T093000
DTEND;TZID=Europe/Lisbon:20240615T223000
DTSTAMP:20260419T211833
CREATED:20240509T153131Z
LAST-MODIFIED:20240509T153131Z
UID:1541-1718443800-1718490600@teatrocinegouveia.pt
SUMMARY:Rh – Revolução Humana
DESCRIPTION:Rh” é a procura de uma existência humana no lugar etéreo do que se foi e do que se será. É o movimento do sonho humano\, onde\, na noite\, se constroem os caminhos do futuro com as memórias do passado\, questionando escolhas e vontades\, pontos de partida e rotas de saída. \nO espetáculo pretende construir trajetórias de regressos que ambicionam ser progressos\, movimentos de forças tão opostas como iguais\, tão interiores como exteriores\, tão singulares como plurais. É qualquer um de nós. Parte de uma ordem natural de eventos que nos conduzem a lugares onde se procura a  revolução humana. \nEste espetáculo\, ao envolver intérpretes com deficiência com um desempenho determinante\, “inova pela transversalidade em que opera\, pela proximidade de comunidades que promove\, pelo derrube de fronteiras e preconceitos. \nNeste ano em que se comemoram os 50 anos do 25 de abril\, surge\, de uma maneira frontal e inescapável de procurar na génese de cada um\, um sentido de revolução. Não no sentido sociopolítico\, económico ou outro\, mas sim uma revolução humana. \nFicha Técnica:  \nDireção Artística _ Ana Rita Barata\, Pedro Sena Nunes; Coreografia _ Ana Rita Barata; Bailarinos _ Bruno Rodrigues\, Dileta Bindi\, Emília Parol\, Javier Lusarreta\, Joana Gomes\, Maria Pinto\, noé; Música _ Jorge Queijo; Apoio à Dramaturgia _ João Cunha; Espaço Cénico e Figurinos _ Marta Carreiras; Professor de Tai Chi e Kung Fu _ Marco Gonçalves – Associação de Artes Marciais Yang Portugal; Desenho e Operação de Luz _ Pedro Machado; Realização Vídeo _Pedro Sena Nunes; Edição Vídeo _ João Dias; Fotografia _ João Pedro Rodrigues;  Design Gráfico _ Inês Chaubert; Produção e Comunicação _ Inês Baptista\, Beatriz Ribeiro; Coordenação Executiva CiM _ Célia Carmona;  Direcção Executiva CiM _ A. Barata;  Co-produtores _ ACERT – Associação Cultural e Recreativa de Tondela\, Casa da Cultura de Santa Comba Dão\, Teatro Municipal da Guarda\, Teatro Cine de Gouveia \nApoio à Criação _ Estúdios Victor Córdon\, Rumo do Fumo\, Soudos – Espaço Rural de Artes\, Pro.Dança\, Biblioteca de Alcântara
URL:https://teatrocinegouveia.pt/evento/rh-revolucao-humana/
CATEGORIES:Dança
ATTACH;FMTTYPE=image/jpeg:https://teatrocinegouveia.pt/wp-content/uploads/2024/05/Rh-Imagem-limpa-Cartaz-@CiM-.-JoaoPedroRodrigues-scaled.jpg
END:VEVENT
END:VCALENDAR