BEGIN:VCALENDAR
VERSION:2.0
PRODID:-//Teatro Cine de Gouveia - ECPv6.15.20//NONSGML v1.0//EN
CALSCALE:GREGORIAN
METHOD:PUBLISH
X-ORIGINAL-URL:https://teatrocinegouveia.pt
X-WR-CALDESC:Eventos para Teatro Cine de Gouveia
REFRESH-INTERVAL;VALUE=DURATION:PT1H
X-Robots-Tag:noindex
X-PUBLISHED-TTL:PT1H
BEGIN:VTIMEZONE
TZID:Europe/Lisbon
BEGIN:DAYLIGHT
TZOFFSETFROM:+0000
TZOFFSETTO:+0100
TZNAME:WEST
DTSTART:20240331T010000
END:DAYLIGHT
BEGIN:STANDARD
TZOFFSETFROM:+0100
TZOFFSETTO:+0000
TZNAME:WET
DTSTART:20241027T010000
END:STANDARD
BEGIN:DAYLIGHT
TZOFFSETFROM:+0000
TZOFFSETTO:+0100
TZNAME:WEST
DTSTART:20250330T010000
END:DAYLIGHT
BEGIN:STANDARD
TZOFFSETFROM:+0100
TZOFFSETTO:+0000
TZNAME:WET
DTSTART:20251026T010000
END:STANDARD
BEGIN:DAYLIGHT
TZOFFSETFROM:+0000
TZOFFSETTO:+0100
TZNAME:WEST
DTSTART:20260329T010000
END:DAYLIGHT
BEGIN:STANDARD
TZOFFSETFROM:+0100
TZOFFSETTO:+0000
TZNAME:WET
DTSTART:20261025T010000
END:STANDARD
END:VTIMEZONE
BEGIN:VEVENT
DTSTART;TZID=Europe/Lisbon:20251202T140000
DTEND;TZID=Europe/Lisbon:20251205T233000
DTSTAMP:20260422T101315
CREATED:20251202T173503Z
LAST-MODIFIED:20251202T173606Z
UID:2618-1764684000-1764977400@teatrocinegouveia.pt
SUMMARY:Coro das Novas | Residência de Criação
DESCRIPTION:// Residência de Criação : Coro das Novas \n2\, 3\, 4 e 5 | DEZ |  \nO Coro das Novas tem como ponto de partida a recolha do cancioneiro não registado. Dedica-se à busca dos casos reais e lendas firmados em canções muitas vezes usadas como recurso para o apaziguamento do trabalho pesado do campo. \nPretende-se uma pós-recolha que distorça o expectável cenário camponês\, recorrendo ao que a contemporaneidade nos trouxe. O projeto será apresentado com recurso a uma miríade de variáveis\, se de um lado mulheres da comunidade\, do outro três músicos multi-instrumentistas (vozes\, guitarras\, sintetizadores\, percussões\, tape loops\, sopros\, etc). Em palco estarão também vários elementos do quotidiano rural que serão usados como elementos musicais\, bem como a projeção em vhs manipulado de partes da recolha. \nMúsicos: Gonçalo Parreirão e Diogo Ferreira \nOutros convidados \nCE: Maiores de 6 anos \nDuração: 60 minutos
URL:https://teatrocinegouveia.pt/evento/coro-das-novas-residencia-de-criacao/
CATEGORIES:Multidisciplinar
ATTACH;FMTTYPE=image/jpeg:https://teatrocinegouveia.pt/wp-content/uploads/2025/10/12-Teatro_Post01-1-scaled.jpg
END:VEVENT
BEGIN:VEVENT
DTSTART;TZID=Europe/Lisbon:20251206T213000
DTEND;TZID=Europe/Lisbon:20251206T230000
DTSTAMP:20260422T101315
CREATED:20251009T112413Z
LAST-MODIFIED:20251206T183827Z
UID:2477-1765056600-1765062000@teatrocinegouveia.pt
SUMMARY:Coro das Novas
DESCRIPTION:// Multidisciplinar: Coro das Novas \nGonçalo Parreirão\, Diogo Ferreira e Rúben Albuquerque \n6 | DEZ | 21H30 | 3€ | M/6 \nO Coro das Novas tem como ponto de partida a recolha do cancioneiro não registado. Dedica-se à busca dos casos reais e lendas firmados em canções muitas vezes usadas como recurso para o apaziguamento do trabalho pesado do campo. \nPretende-se uma pós-recolha que distorça o expectável cenário camponês\, recorrendo ao que a contemporaneidade nos trouxe. O projeto será apresentado com recurso a uma miríade de variáveis\, se de um lado mulheres da comunidade\, do outro três músicos multi-instrumentistas (vozes\, guitarras\, sintetizadores\, percussões\, tape loops\, sopros\, etc). Em palco estarão também vários elementos do quotidiano rural que serão usados como elementos musicais\, bem como a projeção em vhs manipulado de partes da recolha. \nMúsicos: Gonçalo Parreirão\, Diogo Ferreira Rúben Albuquerque \nParticipação: Grupos Comunitários de Gouveia\, Arcozelo da Serra\, S. Paio e Folgosinho \nCE: Maiores de 6 anos \nDuração: 60 minutos
URL:https://teatrocinegouveia.pt/evento/coro-das-novas/
CATEGORIES:Multidisciplinar
ATTACH;FMTTYPE=image/jpeg:https://teatrocinegouveia.pt/wp-content/uploads/2025/10/12-Teatro_Post01-1-scaled.jpg
END:VEVENT
BEGIN:VEVENT
DTSTART;TZID=Europe/Lisbon:20251220T213000
DTEND;TZID=Europe/Lisbon:20251220T230000
DTSTAMP:20260422T101315
CREATED:20251009T144757Z
LAST-MODIFIED:20251211T165618Z
UID:2487-1766266200-1766271600@teatrocinegouveia.pt
SUMMARY:Dois Dias para Além do Tempo
DESCRIPTION:/// Multidisciplinar: Dois Dias para Além do Tempo  \nTerceira Pessoa \n20 | DEZ | 21H30 | 3€ | M/12 \nDois dias para além do tempo é um espetáculo que cruza teatro\, música e literatura\, explorando livremente o universo épico de Ulysses\, de James Joyce. Poder-se-á considerar uma ópera de câmara contemporânea\, com direção artística de Óscar Silva\, composição musical de Ricardo Jacinto e interpretação de Carla Galvão\, Gio Lourenço e Mariana Dionísio\, a partir de textos de Miguel Castro Caldas e Ricardo B. Marques. A música será interpretada ao vivo por Ricardo Jacinto (violoncelo e eletrónica)\, Angélica Salvi (harpa e eletrónica) e Pedro Oliveira (percussão e eletrónica).\nO espetáculo experimenta uma reflexão sobre as lutas e triunfos da vida quotidiana\, entre a ideia do banal e do mesquinho\, em contraponto com as grandes questões existenciais\, individuais e coletivas. \nA composição musical parte da relação entre a espacialidade e a vibração sonora nos corpos e objetos\, com a sua dimensão mais empírica\, onde as emoções e a sua efemeridade se instalam. O texto\, em complementaridade\, explora também a língua enquanto matéria sonora\, experimentando dinâmicas de sentido e significado de palavras e frases.\n \n[FICHA ARTÍSTICA E TÉCNICA] \nM/12\nDuração: 90 minutos (aproximadamente) \nConceção e Direção Artística_ Óscar Silva | Direção Musical e Composição_ Ricardo Jacinto | Músicos_ Ricardo Jacinto (violoncelo e eletrónica)\, Angélica Salvi (harpa e eletrónica) e Pedro Oliveira (percussão e eletrónica) | Interpretação_ Carla Galvão\, Gio Lourenço e Mariana Dionísio | Textos de_ Miguel Castro Caldas e Ricardo B. Marques | Dramaturgia_ Diogo Martins  | Desenho de luz_ Cárin Geada | Técnico de som e Sound Design_ Manuel Pinheiro | Espaço cénico_ Óscar Silva | Figurinos_ Marta Mateus\, com orientação de Ana Margarida Fernandes e Olga Freixo | Adereços_ Eloísa D’Ascenção | Parceiros_ Fábrica da Criatividade; Ajidanha; Aderno – Associação Cultural; Teatromosca;  Centro de Teatro da Câmara Municipal de Cabeceiras de Basto; Cine-Teatro Avenida – Castelo Branco; Teatro Municipal de Ourém; Teatro Sá da Bandeira – Santarém; Teatro Municipal de Vila Real; Cineteatro São João – Câmara Municipal de Palmela e Auditório Carlos do Carmo – Câmara Municipal de Lagoa\, ESART – Escola Superior de Artes Aplicadas | Coprodução_ Teatro Municipal da Guarda; Teatro José Lúcio da Silva; Câmara Municipal de Lamego – Teatro Ribeiro Conceição; Câmara Municipal de Gouveia – Teatro Cine de Gouveia e Teatro-Cine Torres Vedras; OSSO Associação Cultural  | Apoio Media_ Antena 2 |  Apoios_ República Portuguesa – Cultura\, Juventude e Desporto / Direção-Geral das Artes\, Câmara Municipal de Castelo Branco | Produção_ Terceira Pessoa – Associação
URL:https://teatrocinegouveia.pt/evento/dois-dias-para-alem-do-tempo/
CATEGORIES:Multidisciplinar
ATTACH;FMTTYPE=image/jpeg:https://teatrocinegouveia.pt/wp-content/uploads/2025/10/postFB-Mais-que-o-tempo.jpg
END:VEVENT
BEGIN:VEVENT
DTSTART;TZID=Europe/Lisbon:20251227T213000
DTEND;TZID=Europe/Lisbon:20251227T230000
DTSTAMP:20260422T101315
CREATED:20251009T144951Z
LAST-MODIFIED:20251009T144951Z
UID:2491-1766871000-1766876400@teatrocinegouveia.pt
SUMMARY:MEDEIA 
DESCRIPTION:/// Multidisciplinar: MEDEIA   \nPedro Ramos – Ordem do Ó \n27 de dezembro | 21H30 | 3€ | M/16 \nEm MEDEIA\, linguagem visceral e híbrida (corpo\, som\, palavra)\, exalta-se o feminino. Num tempo-espaço não linear\, dominado pelo patriarcado\, mergulhamos na dimensão íntima da mulher\, da deusa. Resistência e emancipação. Aliança com a natureza. Uma forma de ser inteira. Com texto original de Hélia Correia e direção de Pedro Ramos\, MEDEIA revisita o universo mítico grego\, articulando\, através do corpo\, dimensões simbólicas e poéticas que se estendem da nossa ancestralidade à contemporaneidade. \n  \nFicha Artística: \nDireção Artística\, cocriação musical e cenográfica | Pedro Ramos \nTexto original | Hélia Correia \nInterpretação | Ana Lúcia Palminha\, Mara Morgado\, Sara Belo e Pedro Ramos \nAssistência artística e Figurinos | Vítor Alves da Silva \nSonoplastia e criação musical | Jorge Graça \nDesenho de som e operação técnica | Jorge Oliveira \nDesenho de luz | José Coelho \nCenografia | Silveira Cabral e Filipa Saavedra \nProdução | Ana de Arede Cano\, Rita Carpinteiro \nApoio à produção | Bruno Esteves \nDesign | Patrícia Teixeira \nRegisto documental | Miguel Afonso \nApoios | Centro de Interpretação de Monsanto\, Comuna Teatro de Pesquisa\, Casa Jaime Rocha\, Vale do Rossim \nCoprodução | Teatro Municipal de Faro – Teatro das Figuras; Cineteatro Alba; Teatro Cine de Gouveia; Teatro Ribeiro\, Conceição de Lamego \nClassificação etária | M/16
URL:https://teatrocinegouveia.pt/evento/medeia/
CATEGORIES:Multidisciplinar
ATTACH;FMTTYPE=image/jpeg:https://teatrocinegouveia.pt/wp-content/uploads/2025/10/12-Teatro_Post04-scaled.jpg
END:VEVENT
END:VCALENDAR