BEGIN:VCALENDAR
VERSION:2.0
PRODID:-//Teatro Cine de Gouveia - ECPv6.15.20//NONSGML v1.0//EN
CALSCALE:GREGORIAN
METHOD:PUBLISH
X-ORIGINAL-URL:https://teatrocinegouveia.pt
X-WR-CALDESC:Eventos para Teatro Cine de Gouveia
REFRESH-INTERVAL;VALUE=DURATION:PT1H
X-Robots-Tag:noindex
X-PUBLISHED-TTL:PT1H
BEGIN:VTIMEZONE
TZID:Europe/Lisbon
BEGIN:DAYLIGHT
TZOFFSETFROM:+0000
TZOFFSETTO:+0100
TZNAME:WEST
DTSTART:20240331T010000
END:DAYLIGHT
BEGIN:STANDARD
TZOFFSETFROM:+0100
TZOFFSETTO:+0000
TZNAME:WET
DTSTART:20241027T010000
END:STANDARD
BEGIN:DAYLIGHT
TZOFFSETFROM:+0000
TZOFFSETTO:+0100
TZNAME:WEST
DTSTART:20250330T010000
END:DAYLIGHT
BEGIN:STANDARD
TZOFFSETFROM:+0100
TZOFFSETTO:+0000
TZNAME:WET
DTSTART:20251026T010000
END:STANDARD
BEGIN:DAYLIGHT
TZOFFSETFROM:+0000
TZOFFSETTO:+0100
TZNAME:WEST
DTSTART:20260329T010000
END:DAYLIGHT
BEGIN:STANDARD
TZOFFSETFROM:+0100
TZOFFSETTO:+0000
TZNAME:WET
DTSTART:20261025T010000
END:STANDARD
END:VTIMEZONE
BEGIN:VEVENT
DTSTART;TZID=Europe/Lisbon:20250614T213000
DTEND;TZID=Europe/Lisbon:20250614T223000
DTSTAMP:20260422T213544
CREATED:20250327T130405Z
LAST-MODIFIED:20250327T130407Z
UID:2233-1749936600-1749940200@teatrocinegouveia.pt
SUMMARY:Rastros
DESCRIPTION:/// CIRCO CONTEMPORÂNEO: RASTROS \nMastro chinês / Comédia dramática / Tradição e transformação  \nFernando Nogueira \n14 de junho | 21h30 | 3€ \nRASTROS é um espetáculo de mastro chinês em formato de comédia dramática\, absurda e visual\, onde a tradição e a transformação dançam uma valsa excêntrica e melancólica como celebração da humanidade. O espetáculo explora os dilemas apresentados da personagem\, forçando-o a confrontar a sua realidade numa relação com um mastro. \nFicha Artística: \nCriação e interpretação: Fernando Nogueira \nApoio à criação: João Paulo Santos \nApoio coreográfico: Rita Marques e Vitor Fontes \nApoio dramatúrgico: Magda Henriques \nFigurinos e adereços: Sofia Silva \nCeografia e marionetas: Ricardo neto \nAssistentes de palco e montagem: Carlos Costa\, Inês Pinha / Giulia Yoshimura \nDesenho de luz: Carlos Silva Vieira / F. Cassiano \nOperação de luz e som: Carlos Costa \nOlhar externo: Alessio Rouco \nGestão administrativa: RÉPTIL Artes Performativas \nCoprodução: Cine Teatro António Lamoso e Centro Cultural Paredes de Coura \nApoio às residências: Imaginarius Centro de Criação \nDuração aprox.: 40 min \nClassificação Etária: Maiores de 6 anos \nPÚBLICO GERAL
URL:https://teatrocinegouveia.pt/evento/rastros/
CATEGORIES:Multidisciplinar
ATTACH;FMTTYPE=image/jpeg:https://teatrocinegouveia.pt/wp-content/uploads/2025/03/foto.jpg
END:VEVENT
END:VCALENDAR