BEGIN:VCALENDAR
VERSION:2.0
PRODID:-//Teatro Cine de Gouveia - ECPv6.15.20//NONSGML v1.0//EN
CALSCALE:GREGORIAN
METHOD:PUBLISH
X-ORIGINAL-URL:https://teatrocinegouveia.pt
X-WR-CALDESC:Eventos para Teatro Cine de Gouveia
REFRESH-INTERVAL;VALUE=DURATION:PT1H
X-Robots-Tag:noindex
X-PUBLISHED-TTL:PT1H
BEGIN:VTIMEZONE
TZID:Europe/Lisbon
BEGIN:DAYLIGHT
TZOFFSETFROM:+0000
TZOFFSETTO:+0100
TZNAME:WEST
DTSTART:20240331T010000
END:DAYLIGHT
BEGIN:STANDARD
TZOFFSETFROM:+0100
TZOFFSETTO:+0000
TZNAME:WET
DTSTART:20241027T010000
END:STANDARD
BEGIN:DAYLIGHT
TZOFFSETFROM:+0000
TZOFFSETTO:+0100
TZNAME:WEST
DTSTART:20250330T010000
END:DAYLIGHT
BEGIN:STANDARD
TZOFFSETFROM:+0100
TZOFFSETTO:+0000
TZNAME:WET
DTSTART:20251026T010000
END:STANDARD
BEGIN:DAYLIGHT
TZOFFSETFROM:+0000
TZOFFSETTO:+0100
TZNAME:WEST
DTSTART:20260329T010000
END:DAYLIGHT
BEGIN:STANDARD
TZOFFSETFROM:+0100
TZOFFSETTO:+0000
TZNAME:WET
DTSTART:20261025T010000
END:STANDARD
END:VTIMEZONE
BEGIN:VEVENT
DTSTART;TZID=Europe/Lisbon:20250622T153000
DTEND;TZID=Europe/Lisbon:20250622T163000
DTSTAMP:20260422T213543
CREATED:20250327T123505Z
LAST-MODIFIED:20250407T175610Z
UID:2202-1750606200-1750609800@teatrocinegouveia.pt
SUMMARY:Capuchinho\, Teatro Para Bebés?
DESCRIPTION:///TEATRO MUSICAL: Capuchinho\, Teatro Para Bebés? \n22 de junho |  15h30| Todos os públicos | 3€ \n  \n“Mamã\, avó\, floresta\, bolo.” A palavra dita\, narrada a partir de um livro que se abre\, sugere o poder transformador do cenário em imaginário. “Cuidado\, lobo\, perigoso.” A narradora-mãe adverte o desconhecido. E a Capuchinho-bailarina\, em seu singular percurso\, dança ao luar com o lobo mentiroso\, na floresta que também é a casa da avó de boca tão grande que afinal era o lobo\, que não era assim tão mau mas que tinha fome. O caçador ouve o grito e não mata\, mas salva. A moral é apaziguadora. \nUma peça montada a partir de inesperados contrastes que servem para iluminar cada um seus elementos\, personagens animadas\, de carne e osso\, e inanimadas\, os objetos do cenário. A expressão corporal e a dança relevam o perfil da sonoridade da sílaba e da música. Quem consegue ficar indiferente ao maravilhoso Dueto de Gatos e à Exaltação dos Animais? \nA imagem\, o movimento\, o som e a palavra eximiamente sincronizados\, num auto em que era uma vez uma história encantada\, dramática e vivamente encantadora. \nJini Afonso \n  \nFICHA TÉCNICA E ARTÍSTICA: \nENCENAÇÃO PAULO LAGE \nCOREOGRAFIA ELSA MADEIRA \nINTERPRETAÇÃO CHEILA LIMA/ MARCIA BRANCO\, DUARTE MELO E SOFIA LOUREIRO \nAPOIO VOCAL –SILVIA FILIPE \nCENOGRAFIA ANA PAULA ROCHA \nFIGURINOS MÓNICA CUNHA\, CONFEÇÃO MESTRA OLGA AMORIM \nARRANJOS MUSICAIS ELMANO COELHO E CARLOS GARCIA \nDESENHO DE LUZ PEDRO NABAIS \nDESENHO DE SOM FREDERICO PEREIRA \nADEREÇOS XANA CAPELA \nDESENHO MAQUILHAGEM GUILHERME GAMITO \nFOTOGRAFIAS SOFIA BERBERAN \nPRODUÇÃO THEKINGROAD. \nCO-PRODUÇÃO TEATROPLAGE E CASA DAS ARTES DE FAMALICÃO \nESPECTÁCULO APOIADO PELA DGARTES .
URL:https://teatrocinegouveia.pt/evento/capuchinho-teatro-para-bebes/
CATEGORIES:Multidisciplinar
ATTACH;FMTTYPE=image/jpeg:https://teatrocinegouveia.pt/wp-content/uploads/2025/03/image002.jpg
END:VEVENT
END:VCALENDAR