BEGIN:VCALENDAR
VERSION:2.0
PRODID:-//Teatro Cine de Gouveia - ECPv6.15.20//NONSGML v1.0//EN
CALSCALE:GREGORIAN
METHOD:PUBLISH
X-ORIGINAL-URL:https://teatrocinegouveia.pt
X-WR-CALDESC:Eventos para Teatro Cine de Gouveia
REFRESH-INTERVAL;VALUE=DURATION:PT1H
X-Robots-Tag:noindex
X-PUBLISHED-TTL:PT1H
BEGIN:VTIMEZONE
TZID:Europe/Lisbon
BEGIN:DAYLIGHT
TZOFFSETFROM:+0000
TZOFFSETTO:+0100
TZNAME:WEST
DTSTART:20230326T010000
END:DAYLIGHT
BEGIN:STANDARD
TZOFFSETFROM:+0100
TZOFFSETTO:+0000
TZNAME:WET
DTSTART:20231029T010000
END:STANDARD
BEGIN:DAYLIGHT
TZOFFSETFROM:+0000
TZOFFSETTO:+0100
TZNAME:WEST
DTSTART:20240331T010000
END:DAYLIGHT
BEGIN:STANDARD
TZOFFSETFROM:+0100
TZOFFSETTO:+0000
TZNAME:WET
DTSTART:20241027T010000
END:STANDARD
BEGIN:DAYLIGHT
TZOFFSETFROM:+0000
TZOFFSETTO:+0100
TZNAME:WEST
DTSTART:20250330T010000
END:DAYLIGHT
BEGIN:STANDARD
TZOFFSETFROM:+0100
TZOFFSETTO:+0000
TZNAME:WET
DTSTART:20251026T010000
END:STANDARD
END:VTIMEZONE
BEGIN:VEVENT
DTSTART;TZID=Europe/Lisbon:20240412T213000
DTEND;TZID=Europe/Lisbon:20240412T230000
DTSTAMP:20260426T002330
CREATED:20240410T165252Z
LAST-MODIFIED:20240411T165334Z
UID:1337-1712957400-1712962800@teatrocinegouveia.pt
SUMMARY:Mafalda Veiga – Geografia Particular
DESCRIPTION:“Geografia Particular” é o novo espetáculo de Mafalda Veiga e o nome do próximo EP a editar na segunda quinzena de março. Neste concerto\, Mafalda Veiga percorre o seu repertório\, com um alinhamento que inclui a maior parte dos singles que têm marcado mais de três décadas de carreira\, assim como temas que já não tocava ao vivo há muitos anos e as canções inéditas que integram o novo EP e que têm sido calorosamente recebidas pelo público. \nO palco é partilhado com dois músicos convidados\, João Gil e Francisco Medina. A música tem o poder de transportar as pessoas para um lugar\, uma latitude\, um destino com temperatura\, cheiro\, sensações\, outras pessoas\, “esse” lugar onde ela foi (e continua a ser) a banda sonora de alguma coisa única\, especial e inesquecível. Esta é a viagem que pauta este novo espetáculo de Mafalda Veiga\, a qual parte do processo de pegar nas suas guitarras e nas suas canções\, escritas em rascunhos que nem sempre guardou\, passa pela procura do “tom” de cada um dos lugares onde as escreveu e que o público guarda em cada lugar seu. \n  \nFicha artística e técnica: Mafalda Veiga – voz\, guitarras\, melódica João Gil – guitarras\, teclado Francisco Medina – guitarra Nelson Carvalho – som Leocádia Silva – iluminação João Pedro Leitão – vídeo Daniel Mestre – backline Ana Moitinho – road manager Radar dos Sons – agenciamento e produção executiva \n  \nDuração: 75m \nFaixa etária: Maiores de 6 anos.
URL:https://teatrocinegouveia.pt/evento/mafalda-veiga-geografia-particular/
LOCATION:Teatro Cine de Gouveia\, Av. 1º de Maio\, Gouveia\, Guarda\, 6290-541
CATEGORIES:Música
ATTACH;FMTTYPE=image/jpeg:https://teatrocinegouveia.pt/wp-content/uploads/2024/04/U0A1435-Exposure_U0A1435.jpeg
END:VEVENT
END:VCALENDAR