BEGIN:VCALENDAR
VERSION:2.0
PRODID:-//Teatro Cine de Gouveia - ECPv6.15.20//NONSGML v1.0//EN
CALSCALE:GREGORIAN
METHOD:PUBLISH
X-ORIGINAL-URL:https://teatrocinegouveia.pt
X-WR-CALDESC:Eventos para Teatro Cine de Gouveia
REFRESH-INTERVAL;VALUE=DURATION:PT1H
X-Robots-Tag:noindex
X-PUBLISHED-TTL:PT1H
BEGIN:VTIMEZONE
TZID:Europe/Lisbon
BEGIN:DAYLIGHT
TZOFFSETFROM:+0000
TZOFFSETTO:+0100
TZNAME:WEST
DTSTART:20230326T010000
END:DAYLIGHT
BEGIN:STANDARD
TZOFFSETFROM:+0100
TZOFFSETTO:+0000
TZNAME:WET
DTSTART:20231029T010000
END:STANDARD
BEGIN:DAYLIGHT
TZOFFSETFROM:+0000
TZOFFSETTO:+0100
TZNAME:WEST
DTSTART:20240331T010000
END:DAYLIGHT
BEGIN:STANDARD
TZOFFSETFROM:+0100
TZOFFSETTO:+0000
TZNAME:WET
DTSTART:20241027T010000
END:STANDARD
BEGIN:DAYLIGHT
TZOFFSETFROM:+0000
TZOFFSETTO:+0100
TZNAME:WEST
DTSTART:20250330T010000
END:DAYLIGHT
BEGIN:STANDARD
TZOFFSETFROM:+0100
TZOFFSETTO:+0000
TZNAME:WET
DTSTART:20251026T010000
END:STANDARD
END:VTIMEZONE
BEGIN:VEVENT
DTSTART;TZID=Europe/Lisbon:20241109T213000
DTEND;TZID=Europe/Lisbon:20241109T233000
DTSTAMP:20260425T125735
CREATED:20241030T153526Z
LAST-MODIFIED:20241030T153530Z
UID:1847-1731187800-1731195000@teatrocinegouveia.pt
SUMMARY:Na Carne da Pêra | Lívia & Fred
DESCRIPTION:// Música – Na Carne da Pêra | Lívia & Fred \n09 de novembro | 21h30 | 5€ \nClássico e moderno\, popular e contemporâneo\, do Brasil e do mundo\, tão experimental quanto acolhedor\, o passeio delineado por Lívia & Fred é sutil\, inesperado\, inspirado. Através de uma panóplia de canções antigas e inéditas (incluindo suas próprias incursões autorais)\, o premiado duo de guitarra e voz enfeitiça o público\, por onde quer que passe. “Na Carne da Pêra” é um espetáculo explosivo e profundo\, que une a tradição da palavra cantada brasileira às sonoridades contemporâneas\, os timbres viscerais a harmonias sofisticadas\, a criatividade infinita das guitarras de Fred ao canto virtuosístico e expressivo de Lívia\, numa performance de duo intimista\, potente e elegante. \nVoz: Lívia Nestrovski \nViola: Fred Ferreira \nDuração: 60 min \nM/6 anos
URL:https://teatrocinegouveia.pt/evento/na-carne-da-pera-livia-fred/
CATEGORIES:Música
ATTACH;FMTTYPE=image/jpeg:https://teatrocinegouveia.pt/wp-content/uploads/2024/10/NOV_Teatro_Post-04-scaled.jpg
END:VEVENT
BEGIN:VEVENT
DTSTART;TZID=Europe/Lisbon:20241113T093000
DTEND;TZID=Europe/Lisbon:20241113T223000
DTSTAMP:20260425T125735
CREATED:20241030T154717Z
LAST-MODIFIED:20241030T154718Z
UID:1861-1731490200-1731537000@teatrocinegouveia.pt
SUMMARY:Ana Lua Caiano | Concerto Comemorativo do 82º Aniversário do Teatro Cine de Gouveia
DESCRIPTION:/// MUSICA: Ana Lua Caiano \n13 de novembro | 21h30 | Teatro Cine de Gouveia | 5€ \nAna Lua Caiano explora a fusão musical\, através da junção da música tradicional portuguesa com música eletrónica\, criando melodias que remetem para a tradição\, numa união com sintetizadores\, beat-machines e sons retirados do quotidiano. Tendo sido considerada “Artista Revelação” com os seus dois primeiros EPs\, Ana Lua Caiano encontra-se em digressão com o seu primeiro álbum “Vou ficar neste quadrado”. A sua música tem sido reconhecida nacional e internacionalmente\, tendo estado nomeada para os NME Awards e agora como “Artista revelação” nos PLAY-Prémios da Música Portuguesa. A digressão do novo álbum conta já com mais de 60 datas confirmadas em Portugal e além-fronteiras e\, recentemente\, Ana Lua Caiano esteve em destaque em grandes meios de comunicação internacionais\, como a revista GQ\, o jornal francês Le Monde\, na publicação Songlines\, e também na edição impressa da The Wire Magazine.
URL:https://teatrocinegouveia.pt/evento/ana-lua-caiano-concerto-comemorativo-do-82o-aniversario-do-teatro-cine-de-gouveia/
CATEGORIES:Música
ATTACH;FMTTYPE=image/jpeg:https://teatrocinegouveia.pt/wp-content/uploads/2024/10/NOV_Teatro_Post-06-scaled.jpg
END:VEVENT
END:VCALENDAR