BEGIN:VCALENDAR
VERSION:2.0
PRODID:-//Teatro Cine de Gouveia - ECPv6.15.20//NONSGML v1.0//EN
CALSCALE:GREGORIAN
METHOD:PUBLISH
X-ORIGINAL-URL:https://teatrocinegouveia.pt
X-WR-CALDESC:Eventos para Teatro Cine de Gouveia
REFRESH-INTERVAL;VALUE=DURATION:PT1H
X-Robots-Tag:noindex
X-PUBLISHED-TTL:PT1H
BEGIN:VTIMEZONE
TZID:Europe/Lisbon
BEGIN:DAYLIGHT
TZOFFSETFROM:+0000
TZOFFSETTO:+0100
TZNAME:WEST
DTSTART:20230326T010000
END:DAYLIGHT
BEGIN:STANDARD
TZOFFSETFROM:+0100
TZOFFSETTO:+0000
TZNAME:WET
DTSTART:20231029T010000
END:STANDARD
BEGIN:DAYLIGHT
TZOFFSETFROM:+0000
TZOFFSETTO:+0100
TZNAME:WEST
DTSTART:20240331T010000
END:DAYLIGHT
BEGIN:STANDARD
TZOFFSETFROM:+0100
TZOFFSETTO:+0000
TZNAME:WET
DTSTART:20241027T010000
END:STANDARD
BEGIN:DAYLIGHT
TZOFFSETFROM:+0000
TZOFFSETTO:+0100
TZNAME:WEST
DTSTART:20250330T010000
END:DAYLIGHT
BEGIN:STANDARD
TZOFFSETFROM:+0100
TZOFFSETTO:+0000
TZNAME:WET
DTSTART:20251026T010000
END:STANDARD
END:VTIMEZONE
BEGIN:VEVENT
DTSTART;TZID=Europe/Lisbon:20241207T213000
DTEND;TZID=Europe/Lisbon:20241207T223000
DTSTAMP:20260425T112052
CREATED:20241119T183216Z
LAST-MODIFIED:20241206T224305Z
UID:1927-1733607000-1733610600@teatrocinegouveia.pt
SUMMARY:DME: Orquestra Electroacústica
DESCRIPTION:/// MÚSICA \nDME: Orquestra Electroacústica  \n07 de dezembro | 21h30 | Teatro Cine de Gouveia | 3€ \n  \nA “orquestra electroacústica” é uma iniciativa do Projecto DME em colaboração com a Orquestra Sinfónica de Gouveia que procura criar ligações entre o passado musical ocidental e o seu presente\, questionando o que obras de períodos tão distintos têm em comum e o que as separa. O programa gira em torno de obras concertantes\, que contarão com as solistas Ana Telles no piano e Beatriz Costa no violino\, de períodos distintos – falamos do Concerto em Lá Maior para Violino e Orquestra de Wolfgang Amadeus Mozart (1756-1791)\, e “Tema com Quatro Variações – ‘Os Quatro Temperamentos’”\, de Paul Hindemith (1895 – 1963) para Piano e Orquestra de Cordas. Adicionalmente\, será apresentada a obra “Connotations” (2015-2016)\, para orquestra de cordas e electrónica\, do compositor Panayiotis Kokoras\, nascido em 1974 na Grécia\, que irá transportar o público para um mundo novo\, repleto de associações entre as numerosas possibilidades tímbricas dos instrumentos de corda e paisagens sonoras que incluem gravações de comboios.
URL:https://teatrocinegouveia.pt/evento/dme-orquestra-electroacustica-2/
CATEGORIES:Música
ATTACH;FMTTYPE=image/jpeg:https://teatrocinegouveia.pt/wp-content/uploads/2024/11/DEZ_Teatro_Post-01DME-scaled.jpg
END:VEVENT
BEGIN:VEVENT
DTSTART;TZID=Europe/Lisbon:20241221T213000
DTEND;TZID=Europe/Lisbon:20241221T223000
DTSTAMP:20260425T112052
CREATED:20241119T183436Z
LAST-MODIFIED:20241211T155752Z
UID:1931-1734816600-1734820200@teatrocinegouveia.pt
SUMMARY:FáLá | Concerto pela Orquestra Ligeira de Gouveia
DESCRIPTION:/// MÚSICA\nFáLá | Concerto pela Orquestra Ligeira de Gouveia  \n21 de dezembro| 21h30 | Teatro Cine de Gouveia  | 5€ \n  \nDesafiada pelo Teatro Cine de Gouveia\, a Orquestra Ligeira de Gouveia cria um espetáculo musical que pretende aprofundar a relação entre os diferentes Espaços da Língua Portuguesa. Similitudes e influências na composição e interpretação são o ponto de partida para um diálogo entre países da diáspora. \nSonoridades\, linguagens\, andamentos e diversidade caraterizam um concerto que percorrerá diferentes estilos musicais\, desde a musica tradicional portuguesa\, passando pela morna e o samba. \nDireção Musical: Maestro Helder Abreu \nInterpretes: Músicos da Orquestra Ligeira de Gouveia \nDuração: 60 min \nPublico: maiores de 6 anos
URL:https://teatrocinegouveia.pt/evento/fala-concerto-pela-orquestra-ligeira-de-gouveia/
CATEGORIES:Música
ATTACH;FMTTYPE=image/jpeg:https://teatrocinegouveia.pt/wp-content/uploads/2024/11/Dez_Teatro_Post-03-scaled.jpg
END:VEVENT
BEGIN:VEVENT
DTSTART;TZID=Europe/Lisbon:20241223T213000
DTEND;TZID=Europe/Lisbon:20241223T233000
DTSTAMP:20260425T112052
CREATED:20241206T184544Z
LAST-MODIFIED:20241211T155819Z
UID:1974-1734989400-1734996600@teatrocinegouveia.pt
SUMMARY:Concerto de Natal - Encontro de Bandas do Concelho de Gouveia
DESCRIPTION:Concerto de Natal – Encontro de Bandas do Concelho de Gouveia\n\n\nNo âmbito da programação de Natal promovida pelo Município de Gouveia\, o Teatro Cine recebe\, no dia 23 de dezembro\, pelas 21h30\, um Concerto de Natal – Encontro de Bandas do Concelho de Gouveia.\n\n\nUm momento marcante e representativo do associativismo\, que irá contar com a participação das bandas filarmónicas do concelho de Gouveia que irão presentear o público com um espetáculo inesquecível\, repleto de música\, tradição e talento dos nossos músicos locais.\n\n\n Banda Filarmónica Amizade de Arcozelo da Serra\n Banda Filarmónica de Vila Nova de Tazem\n Banda da Sociedade de Instrução e Recreio de Paços da Serra\n Filarmónica Gratidão Riotortense\n Sociedade Musical Gouveense “Pedro Amaral Botto Machado”\n Sociedade Recreativa e Musical de Moimenta da Serra\n\n\n\n Bilhetes: 3€ (Disponíveis junto das bandas participantes e no Teatro Cine de Gouveia).\n Data: 23 de dezembro\n Hora: 21h30\n Local: Teatro Cine de Gouveia\n\n\n\nNeste Natal\, o espírito de união e harmonia musical ganha vida no Teatro Cine de Gouveia!\n\n\nTraga a sua família e amigos para vivenciar a magia da música e do Natal neste concerto único e especial!
URL:https://teatrocinegouveia.pt/evento/concerto-de-natal-encontro-de-bandas-do-concelho-de-gouveia/
CATEGORIES:Música
ATTACH;FMTTYPE=image/jpeg:https://teatrocinegouveia.pt/wp-content/uploads/2024/12/Encontro-de-Bandas-no-Natal-24-Post-scaled.jpg
END:VEVENT
END:VCALENDAR