BEGIN:VCALENDAR
VERSION:2.0
PRODID:-//Teatro Cine de Gouveia - ECPv6.15.20//NONSGML v1.0//EN
CALSCALE:GREGORIAN
METHOD:PUBLISH
X-ORIGINAL-URL:https://teatrocinegouveia.pt
X-WR-CALDESC:Eventos para Teatro Cine de Gouveia
REFRESH-INTERVAL;VALUE=DURATION:PT1H
X-Robots-Tag:noindex
X-PUBLISHED-TTL:PT1H
BEGIN:VTIMEZONE
TZID:Europe/Lisbon
BEGIN:DAYLIGHT
TZOFFSETFROM:+0000
TZOFFSETTO:+0100
TZNAME:WEST
DTSTART:20240331T010000
END:DAYLIGHT
BEGIN:STANDARD
TZOFFSETFROM:+0100
TZOFFSETTO:+0000
TZNAME:WET
DTSTART:20241027T010000
END:STANDARD
BEGIN:DAYLIGHT
TZOFFSETFROM:+0000
TZOFFSETTO:+0100
TZNAME:WEST
DTSTART:20250330T010000
END:DAYLIGHT
BEGIN:STANDARD
TZOFFSETFROM:+0100
TZOFFSETTO:+0000
TZNAME:WET
DTSTART:20251026T010000
END:STANDARD
BEGIN:DAYLIGHT
TZOFFSETFROM:+0000
TZOFFSETTO:+0100
TZNAME:WEST
DTSTART:20260329T010000
END:DAYLIGHT
BEGIN:STANDARD
TZOFFSETFROM:+0100
TZOFFSETTO:+0000
TZNAME:WET
DTSTART:20261025T010000
END:STANDARD
END:VTIMEZONE
BEGIN:VEVENT
DTSTART;TZID=Europe/Lisbon:20250201T213000
DTEND;TZID=Europe/Lisbon:20250201T230000
DTSTAMP:20260421T131444
CREATED:20250103T182058Z
LAST-MODIFIED:20250103T182118Z
UID:2004-1738445400-1738450800@teatrocinegouveia.pt
SUMMARY:Cassete Pirata
DESCRIPTION:/// MÚSICA | Cassete Pirata \n1 de fevereiro | 21h30 | 5€ \nUm valor seguro na cena indie/pop rock portuguesa. Os Cassete Pirata têm construído uma forte legião de fãs\, fazendo a festa em todos os palcos por onde passam. Marcando presença em grandes festivais e fazendo parte da banda sonora de muitos verões\, depois do sucesso de “A Semente”\, a banda prepara-se agora para lançar um novo álbum no mês de maio\, intitulado “A família”\, com muitas histórias para contar e cantar a plenos pulmões\, com baladas apaixonadas e singles enérgicos. \nMaiores de 6 anos \nDuração: 60 min
URL:https://teatrocinegouveia.pt/evento/cassete-pirata/
CATEGORIES:Música
ATTACH;FMTTYPE=image/jpeg:https://teatrocinegouveia.pt/wp-content/uploads/2025/01/foto-2024-Martim-Torres-©-1-scaled.jpeg
END:VEVENT
END:VCALENDAR