BEGIN:VCALENDAR
VERSION:2.0
PRODID:-//Teatro Cine de Gouveia - ECPv6.15.20//NONSGML v1.0//EN
CALSCALE:GREGORIAN
METHOD:PUBLISH
X-WR-CALNAME:Teatro Cine de Gouveia
X-ORIGINAL-URL:https://teatrocinegouveia.pt
X-WR-CALDESC:Eventos para Teatro Cine de Gouveia
REFRESH-INTERVAL;VALUE=DURATION:PT1H
X-Robots-Tag:noindex
X-PUBLISHED-TTL:PT1H
BEGIN:VTIMEZONE
TZID:Europe/Lisbon
BEGIN:DAYLIGHT
TZOFFSETFROM:+0000
TZOFFSETTO:+0100
TZNAME:WEST
DTSTART:20230326T010000
END:DAYLIGHT
BEGIN:STANDARD
TZOFFSETFROM:+0100
TZOFFSETTO:+0000
TZNAME:WET
DTSTART:20231029T010000
END:STANDARD
BEGIN:DAYLIGHT
TZOFFSETFROM:+0000
TZOFFSETTO:+0100
TZNAME:WEST
DTSTART:20240331T010000
END:DAYLIGHT
BEGIN:STANDARD
TZOFFSETFROM:+0100
TZOFFSETTO:+0000
TZNAME:WET
DTSTART:20241027T010000
END:STANDARD
BEGIN:DAYLIGHT
TZOFFSETFROM:+0000
TZOFFSETTO:+0100
TZNAME:WEST
DTSTART:20250330T010000
END:DAYLIGHT
BEGIN:STANDARD
TZOFFSETFROM:+0100
TZOFFSETTO:+0000
TZNAME:WET
DTSTART:20251026T010000
END:STANDARD
END:VTIMEZONE
BEGIN:VEVENT
DTSTART;VALUE=DATE:20240503
DTEND;VALUE=DATE:20240506
DTSTAMP:20260426T015427
CREATED:20240422T133755Z
LAST-MODIFIED:20240509T135346Z
UID:1494-1714694400-1714953599@teatrocinegouveia.pt
SUMMARY:Gouveia Art Rock
DESCRIPTION:O melhor Festival de Música Progressiva da Europa regressa a Gouveia\, entre os dias 03 e 05 de maio de 2024\, garantindo aos entusiastas da música alternativa espetáculos memoráveis e momentos de verdadeira euforia e celebração da cultura.\nO Gouveia Art Rock é uma organização do Município de Gouveia\, em parceria com a Orquestra Ligeira de Gouveia\, e transformou-se\, nos últimos anos\, num Festival de referência da música progressiva à escala mundial.\nTrata-se de um evento totalmente pioneiro em Portugal\, sendo o único evento dedicado ao rock progressivo ou géneros eruditos apresentados no nosso país.\nEsta 17.ª edição será marcada por nomes sonantes como Gryphon [Inglaterra]\, Hedvig Mollestad Trio [Noruega]\, Seven Impale [Noruega]\, Iamthemorning [Rússia; Inglaterra]\, Kadri Voorand & Mihkel Mälgand [Estónia]\, Ketil Bjørnstad [Noruega]\, Gong [Inglaterra; Brasil]\, Syndone [Itália]\, David Cross Band [Inglaterra] e Steve Hogarth [Inglaterra]\, que trarão a Gouveia o melhor da música progressiva internacional.\n\nPrograma Principal\nConcertos e recitais\nSexta\, 3 de maio de 2024\n\nPaços do Concelho de Gouveia\n19:00-19:15 cerimónia de abertura\n19:15-19:35 Kadri Voorand [Estónia]\n\nTeatro-Cine de Gouveia\n21:30-22:45 Hedvig Mollestad Trio [Noruega]\n\n22:45-23:15 mudança de palco\n23:15-00:30 Gryphon [Inglaterra]\n\nSábado\, 4 de maio de 2024\n\nTeatro-Cine de Gouveia\n14:30-15:40 Seven Impale [Noruega]\n\n15:40-16:20 mudança de palco\n16:20-17:30 Iamthemorning [Rússia; Inglaterra]\n\n17:30-18:00 mudança de palco\n18:00-19:15 Kadri Voorand & Mihkel Mälgand [Estónia]\n\n19:15-22:00 intervalo para jantar\n22:00-23:00 Ketil Bjørnstad [Noruega]\n\n23:00-23:30 mudança de palco\n23:30-01:00 Gong [Inglaterra; Brasil]\n\nDomingo\, 5 de maio de 2024\n\nTeatro-Cine de Gouveia\n15:00-16:15 Syndone [Itália]\n\nIgreja de S. Pedro de Gouveia\n17:00-18:00 Ketil Bjørnstad [Noruega]\n\nTeatro-Cine de Gouveia\n18:45-20:00 David Cross Band [Inglaterra]\n\n20:00-20:20 mudança de palco\n20:20-21:35 Steve Hogarth [Inglaterra]
URL:https://teatrocinegouveia.pt/evento/gouveia-art-rock/
LOCATION:Teatro Cine de Gouveia\, Av. 1º de Maio\, Gouveia\, Guarda\, 6290-541
CATEGORIES:Música
ATTACH;FMTTYPE=image/jpeg:https://teatrocinegouveia.pt/wp-content/uploads/2024/04/v1.5_Cartaz_GAR24-scaled.jpg
END:VEVENT
END:VCALENDAR