BEGIN:VCALENDAR
VERSION:2.0
PRODID:-//Teatro Cine de Gouveia - ECPv6.15.20//NONSGML v1.0//EN
CALSCALE:GREGORIAN
METHOD:PUBLISH
X-WR-CALNAME:Teatro Cine de Gouveia
X-ORIGINAL-URL:https://teatrocinegouveia.pt
X-WR-CALDESC:Eventos para Teatro Cine de Gouveia
REFRESH-INTERVAL;VALUE=DURATION:PT1H
X-Robots-Tag:noindex
X-PUBLISHED-TTL:PT1H
BEGIN:VTIMEZONE
TZID:Europe/Lisbon
BEGIN:DAYLIGHT
TZOFFSETFROM:+0000
TZOFFSETTO:+0100
TZNAME:WEST
DTSTART:20230326T010000
END:DAYLIGHT
BEGIN:STANDARD
TZOFFSETFROM:+0100
TZOFFSETTO:+0000
TZNAME:WET
DTSTART:20231029T010000
END:STANDARD
BEGIN:DAYLIGHT
TZOFFSETFROM:+0000
TZOFFSETTO:+0100
TZNAME:WEST
DTSTART:20240331T010000
END:DAYLIGHT
BEGIN:STANDARD
TZOFFSETFROM:+0100
TZOFFSETTO:+0000
TZNAME:WET
DTSTART:20241027T010000
END:STANDARD
BEGIN:DAYLIGHT
TZOFFSETFROM:+0000
TZOFFSETTO:+0100
TZNAME:WEST
DTSTART:20250330T010000
END:DAYLIGHT
BEGIN:STANDARD
TZOFFSETFROM:+0100
TZOFFSETTO:+0000
TZNAME:WET
DTSTART:20251026T010000
END:STANDARD
END:VTIMEZONE
BEGIN:VEVENT
DTSTART;TZID=Europe/Lisbon:20241001T143000
DTEND;TZID=Europe/Lisbon:20241001T170000
DTSTAMP:20260425T162501
CREATED:20240926T163748Z
LAST-MODIFIED:20240926T164053Z
UID:1746-1727793000-1727802000@teatrocinegouveia.pt
SUMMARY:A VOZ DO ROCK
DESCRIPTION:// MÚSICA: A VOZ DO ROCK \n1 de outubro | 14h30 | Gratuito \nO coletivo de avós composto\, na sua maioria\, por octogenários de Viseu\, desafia o estereótipo da idade e prova que é possível envelhecer e\, simultaneamente\, “optar pelo que faz o coração vibrar” (Osho). Os A Voz do Rock optaram pelo rock e pelas suas canções que\, geralmente\, não se fazem ouvir em vozes de pessoas tão velhas e que assim rompem fronteiras entre gerações e excedem os limites da própria condição humana.\nA comemoração do Dia Internacional do Idoso pretende\, assim\, apelar ao espírito jovem dos séniores\, e tem como objetivo principal valorizar a pessoa idosa na comunidade do concelho\, proporcionando momentos de divertimento e partilha.
URL:https://teatrocinegouveia.pt/evento/a-voz-do-rock/
CATEGORIES:Música
ATTACH;FMTTYPE=image/jpeg:https://teatrocinegouveia.pt/wp-content/uploads/2024/09/OUT-Teatro_Post-01-scaled.jpg
END:VEVENT
END:VCALENDAR