BEGIN:VCALENDAR
VERSION:2.0
PRODID:-//Teatro Cine de Gouveia - ECPv6.15.20//NONSGML v1.0//EN
CALSCALE:GREGORIAN
METHOD:PUBLISH
X-WR-CALNAME:Teatro Cine de Gouveia
X-ORIGINAL-URL:https://teatrocinegouveia.pt
X-WR-CALDESC:Eventos para Teatro Cine de Gouveia
REFRESH-INTERVAL;VALUE=DURATION:PT1H
X-Robots-Tag:noindex
X-PUBLISHED-TTL:PT1H
BEGIN:VTIMEZONE
TZID:Europe/Lisbon
BEGIN:DAYLIGHT
TZOFFSETFROM:+0000
TZOFFSETTO:+0100
TZNAME:WEST
DTSTART:20230326T010000
END:DAYLIGHT
BEGIN:STANDARD
TZOFFSETFROM:+0100
TZOFFSETTO:+0000
TZNAME:WET
DTSTART:20231029T010000
END:STANDARD
BEGIN:DAYLIGHT
TZOFFSETFROM:+0000
TZOFFSETTO:+0100
TZNAME:WEST
DTSTART:20240331T010000
END:DAYLIGHT
BEGIN:STANDARD
TZOFFSETFROM:+0100
TZOFFSETTO:+0000
TZNAME:WET
DTSTART:20241027T010000
END:STANDARD
BEGIN:DAYLIGHT
TZOFFSETFROM:+0000
TZOFFSETTO:+0100
TZNAME:WEST
DTSTART:20250330T010000
END:DAYLIGHT
BEGIN:STANDARD
TZOFFSETFROM:+0100
TZOFFSETTO:+0000
TZNAME:WET
DTSTART:20251026T010000
END:STANDARD
END:VTIMEZONE
BEGIN:VEVENT
DTSTART;TZID=Europe/Lisbon:20241223T213000
DTEND;TZID=Europe/Lisbon:20241223T233000
DTSTAMP:20260425T131044
CREATED:20241206T184544Z
LAST-MODIFIED:20241211T155819Z
UID:1974-1734989400-1734996600@teatrocinegouveia.pt
SUMMARY:Concerto de Natal - Encontro de Bandas do Concelho de Gouveia
DESCRIPTION:Concerto de Natal – Encontro de Bandas do Concelho de Gouveia\n\n\nNo âmbito da programação de Natal promovida pelo Município de Gouveia\, o Teatro Cine recebe\, no dia 23 de dezembro\, pelas 21h30\, um Concerto de Natal – Encontro de Bandas do Concelho de Gouveia.\n\n\nUm momento marcante e representativo do associativismo\, que irá contar com a participação das bandas filarmónicas do concelho de Gouveia que irão presentear o público com um espetáculo inesquecível\, repleto de música\, tradição e talento dos nossos músicos locais.\n\n\n Banda Filarmónica Amizade de Arcozelo da Serra\n Banda Filarmónica de Vila Nova de Tazem\n Banda da Sociedade de Instrução e Recreio de Paços da Serra\n Filarmónica Gratidão Riotortense\n Sociedade Musical Gouveense “Pedro Amaral Botto Machado”\n Sociedade Recreativa e Musical de Moimenta da Serra\n\n\n\n Bilhetes: 3€ (Disponíveis junto das bandas participantes e no Teatro Cine de Gouveia).\n Data: 23 de dezembro\n Hora: 21h30\n Local: Teatro Cine de Gouveia\n\n\n\nNeste Natal\, o espírito de união e harmonia musical ganha vida no Teatro Cine de Gouveia!\n\n\nTraga a sua família e amigos para vivenciar a magia da música e do Natal neste concerto único e especial!
URL:https://teatrocinegouveia.pt/evento/concerto-de-natal-encontro-de-bandas-do-concelho-de-gouveia/
CATEGORIES:Música
ATTACH;FMTTYPE=image/jpeg:https://teatrocinegouveia.pt/wp-content/uploads/2024/12/Encontro-de-Bandas-no-Natal-24-Post-scaled.jpg
END:VEVENT
END:VCALENDAR